BEGIN:VCALENDAR
VERSION:2.0
PRODID: -//Q4 Inc.//EN
METHOD:PUBLISH
BEGIN:VTIMEZONE
TZID:America/New_York
X-LIC-LOCATION:America/New_York
BEGIN:DAYLIGHT
TZOFFSETFROM:-0500
TZOFFSETTO:-0400
TZNAME:EDT
DTSTART:19700308T020000
RRULE:FREQ=YEARLY;BYMONTH=3;BYDAY=2SU
END:DAYLIGHT
BEGIN:STANDARD
TZOFFSETFROM:-0400
TZOFFSETTO:-0500
TZNAME:EST
DTSTART:19701101T020000
RRULE:FREQ=YEARLY;BYMONTH=11;BYDAY=1SU
END:STANDARD
END:VTIMEZONE
BEGIN:VEVENT
ORGANIZER:MAILTO:no-reply@q4inc.com
DTSTART;TZID="America/New_York":20111206T000000
DTEND;TZID="America/New_York":20111206T000000
LOCATION:
UID:39c4ea66-4065-4703-b288-18b36275b023
DTSTAMP:20260424T204254
SUMMARY:Goldman Sachs US Financial Services Conference
DESCRIPTION: View More Information: https://investor.travelers.com/events-and-presentations/event-details/2011/Goldman-Sachs-US-Financial-Services-Conference/default.aspx
URL;VALUE=URI:https://investor.travelers.com/events-and-presentations/event-details/2011/Goldman-Sachs-US-Financial-Services-Conference/default.aspx
PRIORITY:5
CLASS:PUBLIC
END:VEVENT
END:VCALENDAR
