BEGIN:VCALENDAR
VERSION:2.0
PRODID: -//Q4 Inc.//EN
METHOD:PUBLISH
BEGIN:VTIMEZONE
TZID:America/New_York
X-LIC-LOCATION:America/New_York
BEGIN:DAYLIGHT
TZOFFSETFROM:-0500
TZOFFSETTO:-0400
TZNAME:EDT
DTSTART:19700308T020000
RRULE:FREQ=YEARLY;BYMONTH=3;BYDAY=2SU
END:DAYLIGHT
BEGIN:STANDARD
TZOFFSETFROM:-0400
TZOFFSETTO:-0500
TZNAME:EST
DTSTART:19701101T020000
RRULE:FREQ=YEARLY;BYMONTH=11;BYDAY=1SU
END:STANDARD
END:VTIMEZONE
BEGIN:VEVENT
ORGANIZER:MAILTO:no-reply@q4inc.com
DTSTART;TZID="America/New_York":20110215T000000
DTEND;TZID="America/New_York":20110215T000000
LOCATION:
UID:f7cc9725-14eb-487d-b45c-de54d2ddbb31
DTSTAMP:20260424T204255
SUMMARY:Bank of America Merrill Lynch Insurance Conference
DESCRIPTION: View More Information: https://investor.travelers.com/events-and-presentations/event-details/2011/Bank-of-America-Merrill-Lynch-Insurance-Conference/default.aspx
URL;VALUE=URI:https://investor.travelers.com/events-and-presentations/event-details/2011/Bank-of-America-Merrill-Lynch-Insurance-Conference/default.aspx
PRIORITY:5
CLASS:PUBLIC
END:VEVENT
END:VCALENDAR
